


BEGIN:VCALENDAR
VERSION:2.0
PRODID:-//مصرف البحرين المركزي - ECPv6.15.20//NONSGML v1.0//EN
CALSCALE:GREGORIAN
METHOD:PUBLISH
X-WR-CALNAME:مصرف البحرين المركزي
X-ORIGINAL-URL:https://www.cbb.gov.bh/ar/
X-WR-CALDESC:Events for مصرف البحرين المركزي
REFRESH-INTERVAL;VALUE=DURATION:PT1H
X-Robots-Tag:noindex
X-PUBLISHED-TTL:PT1H
BEGIN:VTIMEZONE
TZID:Europe/Moscow
BEGIN:STANDARD
TZOFFSETFROM:+0300
TZOFFSETTO:+0300
TZNAME:MSK
DTSTART:20240101T000000
END:STANDARD
END:VTIMEZONE
BEGIN:VEVENT
DTSTART;VALUE=DATE:20250606
DTEND;VALUE=DATE:20250609
DTSTAMP:20260421T185831
CREATED:20241113T091146Z
LAST-MODIFIED:20241113T092253Z
UID:83927-1749168000-1749427199@www.cbb.gov.bh
SUMMARY:عيد الأضحى 1446
DESCRIPTION:
URL:https://www.cbb.gov.bh/ar/event/%d8%b9%d9%8a%d8%af-%d8%a7%d9%84%d8%a3%d8%b6%d8%ad%d9%89-1446/
CATEGORIES:عطلة رسمية
END:VEVENT
BEGIN:VEVENT
DTSTART;VALUE=DATE:20250626
DTEND;VALUE=DATE:20250627
DTSTAMP:20260421T185831
CREATED:20241113T084721Z
LAST-MODIFIED:20241113T090411Z
UID:83916-1750896000-1750982399@www.cbb.gov.bh
SUMMARY:رأس السنة الهجرية 1447
DESCRIPTION:
URL:https://www.cbb.gov.bh/ar/event/%d8%b1%d8%a3%d8%b3-%d8%a7%d9%84%d8%b3%d9%86%d8%a9-%d8%a7%d9%84%d9%87%d8%ac%d8%b1%d9%8a%d8%a9-1447/
CATEGORIES:عطلة رسمية
END:VEVENT
END:VCALENDAR