


BEGIN:VCALENDAR
VERSION:2.0
PRODID:-//مصرف البحرين المركزي - ECPv6.15.20//NONSGML v1.0//EN
CALSCALE:GREGORIAN
METHOD:PUBLISH
X-ORIGINAL-URL:https://www.cbb.gov.bh/ar/
X-WR-CALDESC:Events for مصرف البحرين المركزي
REFRESH-INTERVAL;VALUE=DURATION:PT1H
X-Robots-Tag:noindex
X-PUBLISHED-TTL:PT1H
BEGIN:VTIMEZONE
TZID:Europe/Moscow
BEGIN:STANDARD
TZOFFSETFROM:+0300
TZOFFSETTO:+0300
TZNAME:MSK
DTSTART:20250101T000000
END:STANDARD
END:VTIMEZONE
BEGIN:VEVENT
DTSTART;VALUE=DATE:20260320
DTEND;VALUE=DATE:20260323
DTSTAMP:20260421T042614
CREATED:20251223T080117Z
LAST-MODIFIED:20251224T083457Z
UID:104982-1773964800-1774223999@www.cbb.gov.bh
SUMMARY:عيد الفطر * 1447
DESCRIPTION:
URL:https://www.cbb.gov.bh/ar/event/%d8%b9%d9%8a%d8%af-%d8%a7%d9%84%d9%81%d8%b7%d8%b1-1446-2/
CATEGORIES:عطلة رسمية
END:VEVENT
END:VCALENDAR