BEGIN:VCALENDAR
VERSION:2.0
PRODID:-//CBB - ECPv5.7.0//NONSGML v1.0//EN
CALSCALE:GREGORIAN
METHOD:PUBLISH
X-WR-CALNAME:CBB
X-ORIGINAL-URL:https://www.cbb.gov.bh
X-WR-CALDESC:Events for CBB
BEGIN:VTIMEZONE
TZID:Europe/Moscow
BEGIN:STANDARD
TZOFFSETFROM:+0300
TZOFFSETTO:+0300
TZNAME:MSK
DTSTART:20190101T000000
END:STANDARD
END:VTIMEZONE
BEGIN:VEVENT
DTSTART;VALUE=DATE:20190221
DTEND;VALUE=DATE:20190223
DTSTAMP:20210712T213727
CREATED:20190112T142133Z
LAST-MODIFIED:20190222T155827Z
UID:2221-1550707200-1550879999@www.cbb.gov.bh
SUMMARY:3rd MEA FinTech Forum
DESCRIPTION:Sponsored by Bank ABC and AFS (Arab Financial Services) and under the Patronage of the Central Bank of Bahrain.
URL:https://www.cbb.gov.bh/event/3rd-mea-fintech-forum/
ATTACH;FMTTYPE=image/jpeg:https://www.cbb.gov.bh/wp-content/uploads/2019/01/AFS-CONFERENCE2-1-1.jpg
END:VEVENT
END:VCALENDAR