BEGIN:VCALENDAR
VERSION:2.0
PRODID:-//CBB - ECPv5.7.0//NONSGML v1.0//EN
CALSCALE:GREGORIAN
METHOD:PUBLISH
X-WR-CALNAME:CBB
X-ORIGINAL-URL:https://www.cbb.gov.bh
X-WR-CALDESC:Events for CBB
BEGIN:VTIMEZONE
TZID:Europe/Moscow
BEGIN:STANDARD
TZOFFSETFROM:+0300
TZOFFSETTO:+0300
TZNAME:MSK
DTSTART:20190101T000000
END:STANDARD
END:VTIMEZONE
BEGIN:VEVENT
DTSTART;VALUE=DATE:20190225
DTEND;VALUE=DATE:20190226
DTSTAMP:20210712T213909
CREATED:20190130T104939Z
LAST-MODIFIED:20190222T152828Z
UID:4270-1551052800-1551139199@www.cbb.gov.bh
SUMMARY:RegFact 2019
DESCRIPTION:Held under the patronage of the Central Bank of Bahrain\, is a platform that will bring together local and global key regulators\, and policy advocates to find solutions\, and promote best innovative RegTech practices in a collaborative\, open and transparent manner.
URL:https://www.cbb.gov.bh/event/regfact-2019/
LOCATION:The Diplomat Radisson Blu Hotel\, Manama\, Bahrain
ATTACH;FMTTYPE=image/jpeg:https://www.cbb.gov.bh/wp-content/uploads/2019/01/regfact-1-1.jpg
END:VEVENT
END:VCALENDAR