


BEGIN:VCALENDAR
VERSION:2.0
PRODID:-//CBB - ECPv6.15.20//NONSGML v1.0//EN
CALSCALE:GREGORIAN
METHOD:PUBLISH
X-WR-CALNAME:CBB
X-ORIGINAL-URL:https://www.cbb.gov.bh
X-WR-CALDESC:Events for CBB
REFRESH-INTERVAL;VALUE=DURATION:PT1H
X-Robots-Tag:noindex
X-PUBLISHED-TTL:PT1H
BEGIN:VTIMEZONE
TZID:Europe/Moscow
BEGIN:STANDARD
TZOFFSETFROM:+0300
TZOFFSETTO:+0300
TZNAME:MSK
DTSTART:20180101T000000
END:STANDARD
END:VTIMEZONE
BEGIN:VEVENT
DTSTART;VALUE=DATE:20200524
DTEND;VALUE=DATE:20200527
DTSTAMP:20260421T172210
CREATED:20191218T062229Z
LAST-MODIFIED:20191218T063524Z
UID:24868-1590278400-1590537599@www.cbb.gov.bh
SUMMARY:Eid Al Fitr 1441
DESCRIPTION:
URL:https://www.cbb.gov.bh/event/eid-al-fitr-1441/
CATEGORIES:Holiday
END:VEVENT
BEGIN:VEVENT
DTSTART;VALUE=DATE:20200501
DTEND;VALUE=DATE:20200502
DTSTAMP:20260421T172210
CREATED:20191218T062100Z
LAST-MODIFIED:20191218T062100Z
UID:24866-1588291200-1588377599@www.cbb.gov.bh
SUMMARY:Labour Day
DESCRIPTION:
URL:https://www.cbb.gov.bh/event/labour-day-2/
CATEGORIES:Holiday
END:VEVENT
BEGIN:VEVENT
DTSTART;VALUE=DATE:20200101
DTEND;VALUE=DATE:20200102
DTSTAMP:20260421T172210
CREATED:20191218T061849Z
LAST-MODIFIED:20191218T061934Z
UID:24864-1577836800-1577923199@www.cbb.gov.bh
SUMMARY:New Year's Day
DESCRIPTION:
URL:https://www.cbb.gov.bh/event/new-years-day-2/
CATEGORIES:Holiday
END:VEVENT
BEGIN:VEVENT
DTSTART;VALUE=DATE:20191216
DTEND;VALUE=DATE:20191218
DTSTAMP:20260421T172210
CREATED:20190104T082604Z
LAST-MODIFIED:20190104T115916Z
UID:1747-1576454400-1576627199@www.cbb.gov.bh
SUMMARY:National Day
DESCRIPTION:
URL:https://www.cbb.gov.bh/event/national-day/
CATEGORIES:Holiday
END:VEVENT
BEGIN:VEVENT
DTSTART;VALUE=DATE:20191109
DTEND;VALUE=DATE:20191110
DTSTAMP:20260421T172210
CREATED:20190104T082527Z
LAST-MODIFIED:20190104T082527Z
UID:1745-1573257600-1573343999@www.cbb.gov.bh
SUMMARY:Prophet's Birthday 1441
DESCRIPTION:
URL:https://www.cbb.gov.bh/event/prophets-birthday-1441/
CATEGORIES:Holiday
END:VEVENT
BEGIN:VEVENT
DTSTART;VALUE=DATE:20190909
DTEND;VALUE=DATE:20190911
DTSTAMP:20260421T172210
CREATED:20190104T082435Z
LAST-MODIFIED:20190905T063640Z
UID:1743-1567987200-1568159999@www.cbb.gov.bh
SUMMARY:Ashoora 1441
DESCRIPTION:
URL:https://www.cbb.gov.bh/event/ashoora-1441/
CATEGORIES:Holiday
END:VEVENT
BEGIN:VEVENT
DTSTART;VALUE=DATE:20190831
DTEND;VALUE=DATE:20190901
DTSTAMP:20260421T172210
CREATED:20190104T082403Z
LAST-MODIFIED:20190104T082403Z
UID:1741-1567209600-1567295999@www.cbb.gov.bh
SUMMARY:Al Hijra New Year 1441
DESCRIPTION:
URL:https://www.cbb.gov.bh/event/al-hijra-new-year-1441/
CATEGORIES:Holiday
END:VEVENT
BEGIN:VEVENT
DTSTART;VALUE=DATE:20190811
DTEND;VALUE=DATE:20190814
DTSTAMP:20260421T172211
CREATED:20190104T080625Z
LAST-MODIFIED:20190104T080625Z
UID:1739-1565481600-1565740799@www.cbb.gov.bh
SUMMARY:Eid Al Adha 1440
DESCRIPTION:
URL:https://www.cbb.gov.bh/event/eid-al-adha-1440/
CATEGORIES:Holiday
END:VEVENT
BEGIN:VEVENT
DTSTART;VALUE=DATE:20190604
DTEND;VALUE=DATE:20190607
DTSTAMP:20260421T172211
CREATED:20190104T080458Z
LAST-MODIFIED:20190218T174737Z
UID:1737-1559606400-1559865599@www.cbb.gov.bh
SUMMARY:Eid Al Fitr 1440
DESCRIPTION:
URL:https://www.cbb.gov.bh/event/eid-al-fitr-1440/
CATEGORIES:Holiday
END:VEVENT
BEGIN:VEVENT
DTSTART;VALUE=DATE:20190501
DTEND;VALUE=DATE:20190502
DTSTAMP:20260421T172211
CREATED:20190104T080301Z
LAST-MODIFIED:20190104T080301Z
UID:1735-1556668800-1556755199@www.cbb.gov.bh
SUMMARY:Labour Day
DESCRIPTION:
URL:https://www.cbb.gov.bh/event/labour-day/
CATEGORIES:Holiday
END:VEVENT
BEGIN:VEVENT
DTSTART;VALUE=DATE:20190101
DTEND;VALUE=DATE:20190102
DTSTAMP:20260421T172211
CREATED:20190104T080100Z
LAST-MODIFIED:20190104T080100Z
UID:1733-1546300800-1546387199@www.cbb.gov.bh
SUMMARY:New Year's Day
DESCRIPTION:
URL:https://www.cbb.gov.bh/event/new-years-day/
CATEGORIES:Holiday
END:VEVENT
END:VCALENDAR