


BEGIN:VCALENDAR
VERSION:2.0
PRODID:-//CBB - ECPv6.15.20//NONSGML v1.0//EN
CALSCALE:GREGORIAN
METHOD:PUBLISH
X-WR-CALNAME:CBB
X-ORIGINAL-URL:https://www.cbb.gov.bh
X-WR-CALDESC:Events for CBB
REFRESH-INTERVAL;VALUE=DURATION:PT1H
X-Robots-Tag:noindex
X-PUBLISHED-TTL:PT1H
BEGIN:VTIMEZONE
TZID:Europe/Moscow
BEGIN:STANDARD
TZOFFSETFROM:+0300
TZOFFSETTO:+0300
TZNAME:MSK
DTSTART:20240101T000000
END:STANDARD
END:VTIMEZONE
BEGIN:VEVENT
DTSTART;VALUE=DATE:20250606
DTEND;VALUE=DATE:20250609
DTSTAMP:20260421T203027
CREATED:20241113T093811Z
LAST-MODIFIED:20241113T093811Z
UID:83931-1749168000-1749427199@www.cbb.gov.bh
SUMMARY:Eid Al Adha * 1447
DESCRIPTION:
URL:https://www.cbb.gov.bh/event/eid-al-adha-1447/
CATEGORIES:Holiday
END:VEVENT
BEGIN:VEVENT
DTSTART;VALUE=DATE:20250626
DTEND;VALUE=DATE:20250627
DTSTAMP:20260421T203027
CREATED:20241113T083117Z
LAST-MODIFIED:20241113T092828Z
UID:83902-1750896000-1750982399@www.cbb.gov.bh
SUMMARY:Al Hijra New Year* 1447
DESCRIPTION:
URL:https://www.cbb.gov.bh/event/al-hijra-new-year-1447/
CATEGORIES:Holiday
END:VEVENT
END:VCALENDAR