


BEGIN:VCALENDAR
VERSION:2.0
PRODID:-//CBB - ECPv6.15.20//NONSGML v1.0//EN
CALSCALE:GREGORIAN
METHOD:PUBLISH
X-WR-CALNAME:CBB
X-ORIGINAL-URL:https://www.cbb.gov.bh
X-WR-CALDESC:Events for CBB
REFRESH-INTERVAL;VALUE=DURATION:PT1H
X-Robots-Tag:noindex
X-PUBLISHED-TTL:PT1H
BEGIN:VTIMEZONE
TZID:Europe/Moscow
BEGIN:STANDARD
TZOFFSETFROM:+0300
TZOFFSETTO:+0300
TZNAME:MSK
DTSTART:20240101T000000
END:STANDARD
END:VTIMEZONE
BEGIN:VEVENT
DTSTART;VALUE=DATE:20251216
DTEND;VALUE=DATE:20251218
DTSTAMP:20260421T104319
CREATED:20241113T083844Z
LAST-MODIFIED:20241113T092541Z
UID:83908-1765843200-1766015999@www.cbb.gov.bh
SUMMARY:National Day
DESCRIPTION:
URL:https://www.cbb.gov.bh/event/national-day-6/
CATEGORIES:Holiday
END:VEVENT
END:VCALENDAR